BEGIN:VCALENDAR
VERSION:2.0
PRODID:-//Diocese of Saskatoon - ECPv6.15.20//NONSGML v1.0//EN
CALSCALE:GREGORIAN
METHOD:PUBLISH
X-WR-CALNAME:Diocese of Saskatoon
X-ORIGINAL-URL:https://rcdos.ca
X-WR-CALDESC:Events for Diocese of Saskatoon
REFRESH-INTERVAL;VALUE=DURATION:PT1H
X-Robots-Tag:noindex
X-PUBLISHED-TTL:PT1H
BEGIN:VTIMEZONE
TZID:America/Regina
BEGIN:STANDARD
TZOFFSETFROM:-0600
TZOFFSETTO:-0600
TZNAME:CST
DTSTART:20250101T000000
END:STANDARD
END:VTIMEZONE
BEGIN:VEVENT
DTSTART;TZID=America/Regina:20260308T110000
DTEND;TZID=America/Regina:20260308T123000
DTSTAMP:20260420T121858
CREATED:20260105T195220Z
LAST-MODIFIED:20260105T195222Z
UID:47682-1772967600-1772973000@rcdos.ca
SUMMARY:Confirmation with Bishop Mark Hagemoen at St. Joseph Parish\, Saskatoon
DESCRIPTION:Bishop Hagemoen will celebrate the Sacrament of Confirmation with youth at 11 a.m. Sunday\, March 8\, 2026 at St. Joseph Parish\, 8th Street and Broadway Avenue\, Saskatoon.
URL:https://rcdos.ca/event/confirmation-with-bishop-mark-hagemoen-at-st-joseph-parish-saskatoon/
CATEGORIES:Bishop
END:VEVENT
END:VCALENDAR