BEGIN:VCALENDAR
VERSION:2.0
PRODID:-//Diocese of Saskatoon - ECPv6.15.20//NONSGML v1.0//EN
CALSCALE:GREGORIAN
METHOD:PUBLISH
X-WR-CALNAME:Diocese of Saskatoon
X-ORIGINAL-URL:https://rcdos.ca
X-WR-CALDESC:Events for Diocese of Saskatoon
REFRESH-INTERVAL;VALUE=DURATION:PT1H
X-Robots-Tag:noindex
X-PUBLISHED-TTL:PT1H
BEGIN:VTIMEZONE
TZID:America/Regina
BEGIN:STANDARD
TZOFFSETFROM:-0600
TZOFFSETTO:-0600
TZNAME:CST
DTSTART:20240101T000000
END:STANDARD
END:VTIMEZONE
BEGIN:VEVENT
DTSTART;TZID=America/Regina:20250523T190000
DTEND;TZID=America/Regina:20250523T203000
DTSTAMP:20260420T120234
CREATED:20250314T161025Z
LAST-MODIFIED:20250522T023433Z
UID:42603-1748026800-1748032200@rcdos.ca
SUMMARY:Confirmation at St. Philip Neri Parish\, Saskatoon
DESCRIPTION:Diocesan Vicar-General Fr. Kevin McGee will join the parish community of St. Philip Neri\, 1902 Munroe Avenus\, Saskatoon to celebrate confirmation with youth at 7 p.m. Friday\, May 23.
URL:https://rcdos.ca/event/confirmation-at-st-philip-neri-parish-saskatoon/
CATEGORIES:Bishop,General
END:VEVENT
END:VCALENDAR