BEGIN:VCALENDAR
VERSION:2.0
PRODID:-//Diocese of Saskatoon - ECPv6.15.20//NONSGML v1.0//EN
CALSCALE:GREGORIAN
METHOD:PUBLISH
X-ORIGINAL-URL:https://rcdos.ca
X-WR-CALDESC:Events for Diocese of Saskatoon
REFRESH-INTERVAL;VALUE=DURATION:PT1H
X-Robots-Tag:noindex
X-PUBLISHED-TTL:PT1H
BEGIN:VTIMEZONE
TZID:America/Regina
BEGIN:STANDARD
TZOFFSETFROM:-0600
TZOFFSETTO:-0600
TZNAME:CST
DTSTART:20240101T000000
END:STANDARD
END:VTIMEZONE
BEGIN:VEVENT
DTSTART;TZID=America/Regina:20250511T090000
DTEND;TZID=America/Regina:20250511T100000
DTSTAMP:20260421T093646
CREATED:20250314T162349Z
LAST-MODIFIED:20250314T162414Z
UID:42614-1746954000-1746957600@rcdos.ca
SUMMARY:Confirmation at St. Augustine\, Humboldt
DESCRIPTION:Bishop Mark Hagemoen will join the parish communities of St. Augustine\, Humboldt and St. Peter\, Muenster for celebration of confirmation with youth\, at 9 a.m. Sunday\, May 11\, 2025\, held at St. Augustine Catholic Church\, 809-10th Street\, Humboldt\, SK.
URL:https://rcdos.ca/event/confirmation-at-st-augustine-humboldt/
CATEGORIES:Bishop,General
END:VEVENT
END:VCALENDAR