BEGIN:VCALENDAR
VERSION:2.0
PRODID:-//Diocese of Saskatoon - ECPv6.15.20//NONSGML v1.0//EN
CALSCALE:GREGORIAN
METHOD:PUBLISH
X-ORIGINAL-URL:https://rcdos.ca
X-WR-CALDESC:Events for Diocese of Saskatoon
REFRESH-INTERVAL;VALUE=DURATION:PT1H
X-Robots-Tag:noindex
X-PUBLISHED-TTL:PT1H
BEGIN:VTIMEZONE
TZID:America/Regina
BEGIN:STANDARD
TZOFFSETFROM:-0600
TZOFFSETTO:-0600
TZNAME:CST
DTSTART:20250101T000000
END:STANDARD
END:VTIMEZONE
BEGIN:VEVENT
DTSTART;TZID=America/Regina:20260308T110000
DTEND;TZID=America/Regina:20260308T123000
DTSTAMP:20260420T221038
CREATED:20260105T195220Z
LAST-MODIFIED:20260105T195222Z
UID:47682-1772967600-1772973000@rcdos.ca
SUMMARY:Confirmation with Bishop Mark Hagemoen at St. Joseph Parish\, Saskatoon
DESCRIPTION:Bishop Hagemoen will celebrate the Sacrament of Confirmation with youth at 11 a.m. Sunday\, March 8\, 2026 at St. Joseph Parish\, 8th Street and Broadway Avenue\, Saskatoon.
URL:https://rcdos.ca/event/confirmation-with-bishop-mark-hagemoen-at-st-joseph-parish-saskatoon/
CATEGORIES:Bishop
END:VEVENT
BEGIN:VEVENT
DTSTART;TZID=America/Regina:20260310T190000
DTEND;TZID=America/Regina:20260310T203000
DTSTAMP:20260420T221038
CREATED:20260105T195000Z
LAST-MODIFIED:20260105T195002Z
UID:47680-1773169200-1773174600@rcdos.ca
SUMMARY:Confirmation with Bishop Hagemoen at St. Patrick Parish\, Saskatoon
DESCRIPTION:Bishop Mark Hagemoen will celebrate the Sacrament of Confirmation with youth from St. Patrick Parish\, 3339 Centennial Drive\, Saskatoon at 7 p.m. Tuesday\, March 10\, 2026.
URL:https://rcdos.ca/event/confirmation-with-bishop-hagemoen-at-st-patrick-parish-saskatoon/
CATEGORIES:Bishop
END:VEVENT
BEGIN:VEVENT
DTSTART;TZID=America/Regina:20260314T130000
DTEND;TZID=America/Regina:20260314T143000
DTSTAMP:20260420T221038
CREATED:20260107T152502Z
LAST-MODIFIED:20260306T172009Z
UID:47712-1773493200-1773498600@rcdos.ca
SUMMARY:Confirmation with Bishop Hagemoen at St. Mary Parish\, Macklin\, SK
DESCRIPTION:Bishop Mark Hagemoen will celebrate the Sacrament of Confirmation with youth from St. Mary Parish\, Macklin\, SK on Saturday\, March 14\, 2026: Mass begins at 1:00 p.m.
URL:https://rcdos.ca/event/confirmation-with-bishop-hagemoen-at-st-peter-parish-unity-sk/
CATEGORIES:Bishop
END:VEVENT
BEGIN:VEVENT
DTSTART;TZID=America/Regina:20260315T090000
DTEND;TZID=America/Regina:20260315T100000
DTSTAMP:20260420T221038
CREATED:20260107T152317Z
LAST-MODIFIED:20260107T152337Z
UID:47710-1773565200-1773568800@rcdos.ca
SUMMARY:Confirmation with Bishop Hagemoen at St James Parish\, Wilkie
DESCRIPTION:Bishop Mark Hagemoen will celebrate the Sacrament of Confirmation with youth from St James Parish\, Wilkie SK at 9:00 am Sunday\, March 15.
URL:https://rcdos.ca/event/confirmation-with-bishop-hagemoen-at-st-james-parish-wilkie/
CATEGORIES:Bishop
END:VEVENT
BEGIN:VEVENT
DTSTART;TZID=America/Regina:20260315T110000
DTEND;TZID=America/Regina:20260315T123000
DTSTAMP:20260420T221038
CREATED:20260106T163423Z
LAST-MODIFIED:20260306T171805Z
UID:47691-1773572400-1773577800@rcdos.ca
SUMMARY:Confirmation with Bishop Hagemoen at St. Peter Parish\, Unity\, SK
DESCRIPTION:Bishop Mark Hagemoen will celebrate the Sacrament of Confirmation with youth from St. Peter Parish\, Unity\, SK at 11:00 am Sunday\, March 15.
URL:https://rcdos.ca/event/confirmation-with-bishop-hagemoen-for-dodsland-and-kerrobert-parishes/
CATEGORIES:Bishop
END:VEVENT
BEGIN:VEVENT
DTSTART;TZID=America/Regina:20260317T190000
DTEND;TZID=America/Regina:20260317T203000
DTSTAMP:20260420T221038
CREATED:20260107T153005Z
LAST-MODIFIED:20260107T153259Z
UID:47714-1773774000-1773779400@rcdos.ca
SUMMARY:Confirmation with Bishop Mark Hagemoen at Cathedral of the Holy Family
DESCRIPTION:Bishop Mark Hagemoen will celebrate the Sacrament of Confirmation with youth from the Cathedral of the Holy Family parish in Saskatoon at 7 p.m. on both Tuesday\, March 17 and Wednesday\, March 18\, 2026.
URL:https://rcdos.ca/event/confirmation-with-bishop-mark-hagemoen-at-cathedral-of-the-holy-family/2026-03-17/
CATEGORIES:Bishop
END:VEVENT
BEGIN:VEVENT
DTSTART;TZID=America/Regina:20260318T190000
DTEND;TZID=America/Regina:20260318T203000
DTSTAMP:20260420T221038
CREATED:20260107T153005Z
LAST-MODIFIED:20260107T153300Z
UID:47716-1773860400-1773865800@rcdos.ca
SUMMARY:Confirmation with Bishop Mark Hagemoen at Cathedral of the Holy Family
DESCRIPTION:Bishop Mark Hagemoen will celebrate the Sacrament of Confirmation with youth from the Cathedral of the Holy Family parish in Saskatoon at 7 p.m. on both Tuesday\, March 17 and Wednesday\, March 18\, 2026.
URL:https://rcdos.ca/event/confirmation-with-bishop-mark-hagemoen-at-cathedral-of-the-holy-family/2026-03-18/
CATEGORIES:Bishop
END:VEVENT
BEGIN:VEVENT
DTSTART;TZID=America/Regina:20260321T110000
DTEND;TZID=America/Regina:20260321T123000
DTSTAMP:20260420T221038
CREATED:20260306T173320Z
LAST-MODIFIED:20260306T173501Z
UID:48647-1774090800-1774096200@rcdos.ca
SUMMARY:Confirmation with Bishop Hagemoen at St. Theresa\, Lintlaw\, SK
DESCRIPTION:Bishop Mark Hagemoen will celebrate the Sacrament of Confirmation with youth from St. Theresa Parish\, Lintlaw SK\, at 11:00 a.m. Saturday\, March 21\, 2026.
URL:https://rcdos.ca/event/confirmation-with-bishop-hagemoen-at-st-theresa-lintlaw-sk/
CATEGORIES:Bishop
END:VEVENT
BEGIN:VEVENT
DTSTART;TZID=America/Regina:20260330T190000
DTEND;TZID=America/Regina:20260330T210000
DTSTAMP:20260420T221038
CREATED:20260319T030301Z
LAST-MODIFIED:20260324T211220Z
UID:49035-1774897200-1774904400@rcdos.ca
SUMMARY:Theology on Tap with Bishop Hagemoen
DESCRIPTION:* Theology on Tap: For young adults 19 to 35 – Theology on Tap is back at Louis’ on Campus. The next session is Monday\, March 30 at Louis’ from 5:00 pm to 7:00 pm\, and the topic is “An Inside Look at the Issues with the Bishop.” Join in conversation with Bishop Mark Hagemoen about synodality\, reconciliation\, peacemaking\, justice\, and conscience — all in an intimate setting. Come on out\, have a drink\, and join the conversation! All are welcome.  \n\n\n\nTheology on Tap is on Facebook at https://www.facebook.com/saskatoonTonT. Questions? Feel free to e-mail Michael in STM Campus Ministry at mmaclean@stmcollege.ca.
URL:https://rcdos.ca/event/theology-on-tap-with-bishop-hagemoen/
CATEGORIES:Bishop
END:VEVENT
END:VCALENDAR